BEGIN:VCALENDAR
VERSION:2.0
PRODID:-//Brewminatti - Coffee, Food, &amp; Events - ECPv6.15.20//NONSGML v1.0//EN
CALSCALE:GREGORIAN
METHOD:PUBLISH
X-WR-CALNAME:Brewminatti - Coffee, Food, &amp; Events
X-ORIGINAL-URL:https://brewminatti.com
X-WR-CALDESC:Events for Brewminatti - Coffee, Food, &amp; Events
REFRESH-INTERVAL;VALUE=DURATION:PT1H
X-Robots-Tag:noindex
X-PUBLISHED-TTL:PT1H
BEGIN:VTIMEZONE
TZID:America/Los_Angeles
BEGIN:DAYLIGHT
TZOFFSETFROM:-0800
TZOFFSETTO:-0700
TZNAME:PDT
DTSTART:20250309T100000
END:DAYLIGHT
BEGIN:STANDARD
TZOFFSETFROM:-0700
TZOFFSETTO:-0800
TZNAME:PST
DTSTART:20251102T090000
END:STANDARD
BEGIN:DAYLIGHT
TZOFFSETFROM:-0800
TZOFFSETTO:-0700
TZNAME:PDT
DTSTART:20260308T100000
END:DAYLIGHT
BEGIN:STANDARD
TZOFFSETFROM:-0700
TZOFFSETTO:-0800
TZNAME:PST
DTSTART:20261101T090000
END:STANDARD
BEGIN:DAYLIGHT
TZOFFSETFROM:-0800
TZOFFSETTO:-0700
TZNAME:PDT
DTSTART:20270314T100000
END:DAYLIGHT
BEGIN:STANDARD
TZOFFSETFROM:-0700
TZOFFSETTO:-0800
TZNAME:PST
DTSTART:20271107T090000
END:STANDARD
END:VTIMEZONE
BEGIN:VEVENT
DTSTART;TZID=America/Los_Angeles:20260502T190000
DTEND;TZID=America/Los_Angeles:20260502T210000
DTSTAMP:20260423T030358
CREATED:20251119T200038Z
LAST-MODIFIED:20260204T154640Z
UID:10000325-1777748400-1777755600@brewminatti.com
SUMMARY:Della Mae
DESCRIPTION:Each generation\, perhaps once a decade\, bluegrass experiences a band or an artist that redefines and recenters the genre itself. Della Mae is one such band. \nThe GRAMMY-nominated string band was founded in 2010 and over the next decade and a half they’ve demonstrated to the roots music world\, once and for all\, that a band of all women is not\, nor has ever been\, a mere novelty. They remain at the forefront of the explosion of women instrumentalists and all-women acts in roots music and their impact is striking and measurable – not just in North America\, but around the globe. \nNow 15 years since their origin\, Della Mae can boast their strongest lineup yet. Founders Kimber Ludiker and Celia Woodsmith are joined by guitarist and songwriter Avril Smith and vocalist and two-time IBMA Bass Player of the Year Vickie Vaughn. \nThere has never been a band like Della Mae in roots music before\, but thanks to Kimber Ludiker\, Celia Woodsmith\, Avril Smith\, Vickie Vaughn – and all of the women who have been part of this band over its long life – we know there will be many more bands\, singers\, songwriters\, and pickers just like Della Mae in the future. \ncheck out their version of a great Lucinda Williams tune… \n \n 
URL:https://brewminatti.com/event-tickets/della-mae/
LOCATION:Brewminatti\, 713 6th St.\, Prosser\, 99350\, United States
CATEGORIES:Music
ATTACH;FMTTYPE=image/jpeg:https://brewminatti.com/wp-content/uploads/2025/11/DM-horizontal.jpg
GEO:46.20504;-119.76945
X-APPLE-STRUCTURED-LOCATION;VALUE=URI;X-ADDRESS=Brewminatti 713 6th St. Prosser 99350 United States;X-APPLE-RADIUS=500;X-TITLE=713 6th St.:geo:-119.76945,46.20504
END:VEVENT
BEGIN:VEVENT
DTSTART;TZID=America/Los_Angeles:20260514T190000
DTEND;TZID=America/Los_Angeles:20260514T210000
DTSTAMP:20260423T030358
CREATED:20260127T005421Z
LAST-MODIFIED:20260204T154621Z
UID:10000330-1778785200-1778792400@brewminatti.com
SUMMARY:Peter Case
DESCRIPTION:An American Classic – one of our absolute favorite artists! \n“I try to take things I love and use them in a new way\,” said triple Grammy-nominated singer-songwriter Peter Case of his 16th solo album Doctor Moan. Case brings his considerable songwriting ability to an 11-song collection\, largely performed on piano\, including his first solo ecorded instrumental. Released by Sunset Blvd Records\, Case’s piano-based songs are emotionally\, sonically and stylistically rich. \nAs a founding member of of the early punk era trip The Nerves\, in 1977 Case toured the nation sharing bills with The Ramones\, Mink DeVille\, Pere Ubu\, and Devo.  The Nerves single “Hanging on the Telephone\,” was covered by Blondie. In 1979\, Case formed the Plimsouls\, a record-breaking live act in California\, recording albums for Planet/Elektra and Geffen. Th independent single\, “A Million Miles Away\,” entered the Billboard charts and remains a garage rock standard\, performed by bands around the world. The band performed in the cult classic film Valley Girl and the Nerves and Plimsouls timeless teenage rock ‘n’ roll continues to appeal fans of each new generation. \nAfter The Plimsouls\, Case rediscovered his musical roots on his self-titled solo debut\, produced by T-Bone Burnett.  The New York Times declared Peter Case the best album of 1986.  It earned a five-star Rolling Stone review and a Grammy nomination. As one of the first songwriters of his generation to turn from rock music toward an acoustic sound\, Case also helped usher in whal became known as Americana music.
URL:https://brewminatti.com/event-tickets/peter-case-2/
LOCATION:Brewminatti\, 713 6th St.\, Prosser\, 99350\, United States
CATEGORIES:Music
ATTACH;FMTTYPE=image/jpeg:https://brewminatti.com/wp-content/uploads/2026/01/Peter-Case-HWY-62-2-scaled.jpeg
GEO:46.20504;-119.76945
X-APPLE-STRUCTURED-LOCATION;VALUE=URI;X-ADDRESS=Brewminatti 713 6th St. Prosser 99350 United States;X-APPLE-RADIUS=500;X-TITLE=713 6th St.:geo:-119.76945,46.20504
END:VEVENT
BEGIN:VEVENT
DTSTART;TZID=America/Los_Angeles:20260522T190000
DTEND;TZID=America/Los_Angeles:20260522T210000
DTSTAMP:20260423T030358
CREATED:20260304T233004Z
LAST-MODIFIED:20260304T233004Z
UID:10000334-1779476400-1779483600@brewminatti.com
SUMMARY:The Faux Paws
DESCRIPTION:The Faux Paws have a problem. They’re a triangle band in a land of circles. Musically impossible to describe\, they don’t even fit into todays often hyphenated-genre world. No fan\, industry expert\, nor member of the band can seem to sum up this band’s sound in any kind of marketable way. They continue to remain a singularly unique outfit in the acoustic music community\, always on the fringes\, always memorable and with an increasing number of die-hard fans who feel like they’ve uncovered a secret. \nIs it bluegrass? Not usually. Old-time? Occasionally. Is it Celtic? Can’t quite say that. Is it Folk? Americana? Jazz? Singer-songwriter? None of the above\, but members of the Paws have deep ties to all of these traditions and blend their elements effortlessly to serve whatever musical idea is being presented. \nA Faux Paws live show is an explosive roller coaster ride that brings the audience along. Virtuosity on the fiddle\, mandolin\, guitar and saxophone\, sure\, but also vulnerability\, personal lyrics\, tight 3-part brother harmonies\, playful interplay\, intricately arranged details and soaring improvisations.
URL:https://brewminatti.com/event-tickets/the-faux-paws-3/
LOCATION:Brewminatti\, 713 6th St.\, Prosser\, 99350\, United States
CATEGORIES:Music
ATTACH;FMTTYPE=image/jpeg:https://brewminatti.com/wp-content/uploads/2026/03/pic-1.jpg
GEO:46.20504;-119.76945
X-APPLE-STRUCTURED-LOCATION;VALUE=URI;X-ADDRESS=Brewminatti 713 6th St. Prosser 99350 United States;X-APPLE-RADIUS=500;X-TITLE=713 6th St.:geo:-119.76945,46.20504
END:VEVENT
BEGIN:VEVENT
DTSTART;TZID=America/Los_Angeles:20260613T190000
DTEND;TZID=America/Los_Angeles:20260613T210000
DTSTAMP:20260423T030358
CREATED:20260202T183730Z
LAST-MODIFIED:20260204T154554Z
UID:10000333-1781377200-1781384400@brewminatti.com
SUMMARY:The Silos
DESCRIPTION:The Silos began as a musical force in 1985 with the release of their first album “About Her Steps” along with a series of gigs in their hometown neighborhood\, the East Village of New York City. \nThey were part of New York’s post-punk ’80s scene and played Indie Rock\, Alt-Rock\, Alt-Country\, and Americana before any critics coined those terms. Heralded at their outset by Rolling Stone as “America’s Best New Band\,” the resilient Silos mix punk\, roots\, rock\, and sage art-damaged truth telling. Salas-Humara’s narratives take on the weight of attentive\, convincing poetry and wry wordplay. The Silos have created a sound that’s hard to pin down – “The band’s austere style inflects the astringent twang of The Velvet Underground with the drone of R.E.M. and adds countryish echoes that recall Gram Parsons\,” offered The New York Times. Their latest effort and 12th studio album “Family” was released in 2022 and work has begun on a new album to celebrate their 40th Anniversary in 2025. There will also be series of live albums released in 2025 that span the 40 years of the band on the road.
URL:https://brewminatti.com/event-tickets/the-silos/
LOCATION:Brewminatti\, 713 6th St.\, Prosser\, 99350\, United States
CATEGORIES:Music
ATTACH;FMTTYPE=image/jpeg:https://brewminatti.com/wp-content/uploads/2026/02/Silos_40th_Midwest-scaled.jpeg
GEO:46.20504;-119.76945
X-APPLE-STRUCTURED-LOCATION;VALUE=URI;X-ADDRESS=Brewminatti 713 6th St. Prosser 99350 United States;X-APPLE-RADIUS=500;X-TITLE=713 6th St.:geo:-119.76945,46.20504
END:VEVENT
BEGIN:VEVENT
DTSTART;TZID=America/Los_Angeles:20260624T180000
DTEND;TZID=America/Los_Angeles:20260624T213000
DTSTAMP:20260423T030358
CREATED:20260324T171211Z
LAST-MODIFIED:20260326T170739Z
UID:10000335-1782324000-1782336600@brewminatti.com
SUMMARY:Summer Dean Band w/ Stoney Lonesome
DESCRIPTION:SUMMER CONCERT SERIES\non The Patio at WIT Cellars \nWho doesn’t need a mid-week music boost!  This is the first in our outdoor concert series – and we’re thrilled to have Summer Dean and her GREAT band play for us.  (She’ll also be playing Jackalope Jamboree in Pendleton this weekend.) \nSummer Dean puts on a hell-of-a show. Armed with three albums\, constant tours\, and a hot five-piece band behind her\, Summer struts onto every stage with the confidence and vulnerability of a songstress that has cemented her place among the top rank Texas tunesmiths. Her live show takes the concert goer on a ride of original songs blending bravado\, vulnerability\, and a novelist’s eye for detail. Whether with her full band or all by herself\, listeners and watchers are treated to an authentic\, funny\, and honest storyteller performing her way into legendary status.  \nOpening the show is Tri-Cities own Stoney Lonesome Band…playing some country tunes\, a mix of originals and covers. They will be playing between 6 and 7 – so some early\, get your food and drinks and ENJOY! \nWine from WIT Cellars\nBeer from Perfect Circle Brewing\nFood Trucks on site \nDoors at 6 pm\n– music 6 to 7 Stoney Lonsome\n– music 7:15 to 8:45 Summer Dean\n2 ticket options – with chairs provided or bring your own\nNo outside food or drink – No Dogs\nAll Ages \n \nSHOUT OUT TO OUR SPONSORS
URL:https://brewminatti.com/event-tickets/summer-dean-2/
LOCATION:The Patio @ WIT Cellars\, 505 Cabernet Court\, Prosser\, WA\, 99350\, United States
CATEGORIES:Music
ATTACH;FMTTYPE=image/jpeg:https://brewminatti.com/wp-content/uploads/2026/03/Summer-Web.1-e1774373185128.jpeg
END:VEVENT
BEGIN:VEVENT
DTSTART;TZID=America/Los_Angeles:20260627T190000
DTEND;TZID=America/Los_Angeles:20260627T210000
DTSTAMP:20260423T030358
CREATED:20260316T142056Z
LAST-MODIFIED:20260316T142056Z
UID:10000336-1782586800-1782594000@brewminatti.com
SUMMARY:Big Sandy and His Fly-Rite Boys
DESCRIPTION:We LOVELOVELOVE Big Sandy and His Fly-Rite Boys. \nSince forming in 1988 in Southern California\, Big Sandy and His Fly-Rite Boys have become one of the world’s most beloved Americana/Roots acts\, drawing from the deep musical waters that flow just beneath the surface of Rock & Roll’s fertile soil. A childhood passion for Country\, Doo-Wop\, and Rhythm & Blues 45s led Sandy (born Robert Williams) to pursue a singing career as a teenager\, beginning a life in music that continues decades later. And as his personal record collection continues to grow (75\,000 and counting)\, so does the depth of the musical influences that stream through his songwriting and singing style A critically acclaimed tribute to Tex-Mex hero Freddy Fender\, released at the beginning of the 2020 lockdown\, points the way forward for Big Sandy and His Fly-Rite Boys as they continue on a path of musical growth. After nearly 35 years on the road\, and more than two dozen releases to their credit\, they remain key figures on the ever-changing Americana circuit\, both on record and in live appearances.
URL:https://brewminatti.com/event-tickets/big-sandy-and-his-fly-rite-boys/
LOCATION:Brewminatti\, 713 6th St.\, Prosser\, 99350\, United States
ATTACH;FMTTYPE=image/jpeg:https://brewminatti.com/wp-content/uploads/2026/03/Big-Sandy-and-His-Fly-Rite-Boys-scaled.jpg
GEO:46.20504;-119.76945
X-APPLE-STRUCTURED-LOCATION;VALUE=URI;X-ADDRESS=Brewminatti 713 6th St. Prosser 99350 United States;X-APPLE-RADIUS=500;X-TITLE=713 6th St.:geo:-119.76945,46.20504
END:VEVENT
BEGIN:VEVENT
DTSTART;TZID=America/Los_Angeles:20260710T180000
DTEND;TZID=America/Los_Angeles:20260710T210000
DTSTAMP:20260423T030358
CREATED:20260326T172105Z
LAST-MODIFIED:20260326T174318Z
UID:10000338-1783706400-1783717200@brewminatti.com
SUMMARY:Kimmi Bitter & The Westside Twang
DESCRIPTION:SUMMER CONCERT SERIES\non The Patio at WIT Cellars \nDubbed “the future of classic country” by Saving Country Music\, Kimmi Bitter is painting a whole new tapestry that drapes golden-era Countrypolitan with coastal desert twang. Drawing comparisons from Patsy Cline to a Quentin Tarantino soundtrack\, her sound echoes the spirit of early 60’s California—sun-soaked\, sharp-dressed in mod tones\, and just rebellious enough to drift left of the traditional country dial. A rising force in the underground Americana scene\, she’s capturing attention with her debut album Old School (2024)\, which hit the Top 25 Americana Album Radio Chart and earned eight nominations\, including wins for Song of the Year (2024 & 2025) and Best Country Album (2025) at the San Diego Music Awards. The album also topped at No.1 the Alt-Country Specialty Charts for four consecutive weeks\, and her live performance was recently regarded as “one of the biggest takeaways” from Austin’s SXSW. As a follow-up to her acclaimed debut Old School\, Bitter’s second album is set for release in summer 2026\, diving deeper into the roots of her sound with a record that feels both timeless and distinctly West Coast. \nWine from WIT Cellars\nBeer from Perfect Circle Brewing\nFood Trucks on site \nDoors at 6 pm\n2 ticket options – with chairs provided or bring your own\nNo outside food or drink – No Dogs\nAll Ages
URL:https://brewminatti.com/event-tickets/kimmi-bitter-the-westside-twang-2/
LOCATION:The Patio @ WIT Cellars\, 505 Cabernet Court\, Prosser\, WA\, 99350\, United States
CATEGORIES:Music
ATTACH;FMTTYPE=image/jpeg:https://brewminatti.com/wp-content/uploads/2026/03/patio-pic.1-e1774545626469.jpeg
END:VEVENT
BEGIN:VEVENT
DTSTART;TZID=America/Los_Angeles:20260717T180000
DTEND;TZID=America/Los_Angeles:20260717T210000
DTSTAMP:20260423T030358
CREATED:20260413T151023Z
LAST-MODIFIED:20260421T160833Z
UID:10000342-1784311200-1784322000@brewminatti.com
SUMMARY:Seth Walker Trio
DESCRIPTION:Seth is one of our Brewminatti faves – this will be  his SIXTH performance at Brew and we couldn’t be happier. \nSeth’s music is inspired by the places he has lived – Austin\, New Orleans\, Asheville – and it’s a cool blend of Americana\, blues\, jazz and soul.  He has toured and played with The Mavericks\, Raul Malo\, The Wood Brothers\, Paul Thorn and Ruthie Foster among many others.  He’s touring to support his new album Why TheWorry? \nThe new album finds Walker reunited with old friends and familiar names. Once again Jano Rix steps behind the boards\, co-producing the album with Seth and engineer Brook Sutton. \nIn the producer’s fifth outing he’s become an invaluable sounding board\, the kind who knows what’s missing and\, just as importantly\, what needs to be taken away.  Oliver Wood (The Wood Brothers) lends a pen to the title track\, and Seth’s classically trained father Scott adds strings to “I’m Getting Ready\,” a song penned by Walker’s contemporary Michael Kiwanuka. \nMostly\, though\, the record was shepherded into shape by Walker’s trio\, rounded out by longtime confidants Rhees Williams (Guitar\, Piano) and Mark Raudabaugh (Drums). The three let the studio guide them\, entering without agenda\, set straight by the title’s mantra to stop worrying where they’d end up. \nBut worry always tries to creep in. It’s inevitable\, isn’t it? The album was just about finished when Hurricane Helene hit Walker’s region in the mountains around Asheville\, and as a result\, the record almost didn’t see light.  As catastrophe took shape and literal bridges were broken\, the album’s importance wavered in Seth’s mind until the central theme came back into view. The worry wouldn’t undo any damage\, and there was still service in song. There’s a telling nod in the album closing with Bobby Charles’ seminal ode “I Must Be In a Good Place Now.” Why The Worry is a spiritual reset\, watching the sunrise over the mountains. It soaks in like warmth on the skin after a night of shivering in the dark. \n \n 
URL:https://brewminatti.com/event-tickets/16992/
LOCATION:Brewminatti\, 713 6th St.\, Prosser\, 99350\, United States
ATTACH;FMTTYPE=image/jpeg:https://brewminatti.com/wp-content/uploads/2026/04/seth-walker-press-feb-2025-1480x832-975638535.jpg
GEO:46.20504;-119.76945
X-APPLE-STRUCTURED-LOCATION;VALUE=URI;X-ADDRESS=Brewminatti 713 6th St. Prosser 99350 United States;X-APPLE-RADIUS=500;X-TITLE=713 6th St.:geo:-119.76945,46.20504
END:VEVENT
BEGIN:VEVENT
DTSTART;TZID=America/Los_Angeles:20260723T190000
DTEND;TZID=America/Los_Angeles:20260723T210000
DTSTAMP:20260423T030358
CREATED:20260129T165943Z
LAST-MODIFIED:20260303T185521Z
UID:10000332-1784833200-1784840400@brewminatti.com
SUMMARY:Never Come Down
DESCRIPTION:We dig these cats and are thrilled to have them back! \nFormed in 2017\, Never Come Down was born from the vibrant if not occasionally overlooked music scene of Portland\, Oregon. Much like the city that inspired them\, they’re a smart\, charming\, off-beat amalgam of varied backgrounds and tastes. In today’s paradoxical world where honoring tradition is often pitted against exploration and innovation\, the band confidently walks the line between the modern and the tried-and-true. They’ve gained a loyal following and continue to win over audiences everywhere from Reykjavik’s Iceland Airwaves to San Francisco’s acclaimed Hardly Strictly Bluegrass. They’ve gained the attention of industry veterans\, and toured in support of notable acts such as Yonder Mountain String Band and The Travelin’ McCourys\, among others. Never Come Down’s live performance never disappoints- with showmanship\, originality\, songwriting and musical prowess far beyond their years.
URL:https://brewminatti.com/event-tickets/never-come-down-3/
LOCATION:Brewminatti\, 713 6th St.\, Prosser\, 99350\, United States
CATEGORIES:Music
ATTACH;FMTTYPE=image/jpeg:https://brewminatti.com/wp-content/uploads/2026/01/NCD-1.jpeg
GEO:46.20504;-119.76945
X-APPLE-STRUCTURED-LOCATION;VALUE=URI;X-ADDRESS=Brewminatti 713 6th St. Prosser 99350 United States;X-APPLE-RADIUS=500;X-TITLE=713 6th St.:geo:-119.76945,46.20504
END:VEVENT
BEGIN:VEVENT
DTSTART;TZID=America/Los_Angeles:20260807T190000
DTEND;TZID=America/Los_Angeles:20260807T210000
DTSTAMP:20260423T030358
CREATED:20260421T161955Z
LAST-MODIFIED:20260421T161955Z
UID:10000343-1786129200-1786136400@brewminatti.com
SUMMARY:Jason Eady
DESCRIPTION:With a decades-long commitment to his craft as a songwriter\, Jason Eady has built his career on bringing his unique perspective to a variety of genres\, from the “groove centered” blues of his native Mississippi to the classic sound of Texas\, the place he calls home. Known by critics and fans alike for his thoughtful\, soulful writing and multi-genre mastery\, Eady’s acumen as an artist is rooted in his ability to balance musical exploration with tradition – the result is an artist who delivers authentic songs that detail slices of Eady’s life that resonate with audiences\, whether he’s accompanied by bluegrass pickers or pedal steel. At the heart of Eady’s music is the song and his ability – proven by time and his extensive accolades – to remain loyal and authentic to himself while pushing his storytelling beyond the conventions of genre and form.
URL:https://brewminatti.com/event-tickets/jason-eady-2/
LOCATION:Brewminatti\, 713 6th St.\, Prosser\, 99350\, United States
ATTACH;FMTTYPE=image/jpeg:https://brewminatti.com/wp-content/uploads/2024/11/new-pic.jpeg
GEO:46.20504;-119.76945
X-APPLE-STRUCTURED-LOCATION;VALUE=URI;X-ADDRESS=Brewminatti 713 6th St. Prosser 99350 United States;X-APPLE-RADIUS=500;X-TITLE=713 6th St.:geo:-119.76945,46.20504
END:VEVENT
BEGIN:VEVENT
DTSTART;TZID=America/Los_Angeles:20260814T180000
DTEND;TZID=America/Los_Angeles:20260814T213000
DTSTAMP:20260423T030358
CREATED:20260331T173843Z
LAST-MODIFIED:20260331T180331Z
UID:10000339-1786730400-1786743000@brewminatti.com
SUMMARY:Ian Moore Band
DESCRIPTION:SUMMER CONCERT SERIES\non The Patio at WIT Cellars \n“ You should be playing stadiums!”. Ian laughs while hearing this after another blazing performance at the 2024 SXSW music festival. Is he laughing because he has played his fair share already\, from shows with some of the most\ninfluential musicians of all time\, from the Rolling Stones to Bob Dylan\, to a long line of headline festival performances\, or because he knows the folly of the music business? “I’m always aiming for the fences\,” he says\, but you can tell he’s also motivated by something deeper. \nIan is a triple threat and an artist’s artist. He came up in Austin\, mentored by the greats. Stevie Ray Vaughan famously gave him his first guitar\, and you can hear the lineage in his fingers\, but then you hear that voice…” I was obsessed with the soul singers as a kid\,” he says\, and you can hear those influences in his silky falsetto and his soulful phrasing. Spin magazine described him as a cross between Aaron Neville and Jimi Hendrix\, and that duality sets him apart from so many other guitarists. There is a sensitivity within the fire and an economy in his playing that came from years and years playing with the greats as a young man\, sharing stages with Willie Nelson\, Albert King\, Jimmie Vaughan\, Albert Collins\, Doug Sahm\, and many others while still in his teens and early twenties. \nAt the same time\, Ian is always searching for new ways to expand and refine his music\, working with groundbreaking producers like Mark Howard/Daniel Lanois(Bob Dylan\, U2)\, Joe Chicarelli(White Stripes\, Elton John)\, and more\nrecently\, Adrian Quesada\, whose band ‘the Black Pumas’ was starting to hit as they were making Ian’s ‘Strange Days.’ He looks at songwriting through a lens just as serious as Guy Clark or John Prine\, but through a scope that includes\ninfluences from country blues to brit pop and back. “Man\, many people don’t even listen to lyrics anymore\, but to me\, it is the core of a great song\, and if the core is hollow\, the rest of it will echo that.” That solid foundation has led to four\ntop 20 rock radio hits\, countless TV appearances\, and even a feature role In the film Slingblade\, Billy Bob Thornton’s southern gothic masterpiece. \nWith such a rich history\, it would be easy to rest on his accomplishments\, but Ian doesn’t see it that way. “When we pull into a town\, nobody cares what we’ve done in the past; they want to be electrified\, and our focus is to be the best\nthing they have ever seen.” Watching him play to yet another capacity crowd and leave them screaming long after he’s left the stage\, you can see his dedication and hunger are just where they need to be. He’s staring down\nanother touring season filled with festivals and marquee shows and gearing up to record later this year in what will be his twelfth release. It’s a dizzying pace\, and you have to wonder how anyone can keep their focus and integrity with that much action and movement.“I have to speak from the heart.” He says. “It’s the only thing you have and the only thing that matters. Trends come and go. When you speak from the heart\, you never go wrong.” Looking across the field and seeing thousands of fans completely immersed in his music\, you can see a lifetime of soul smiling back at him. \nWine from WIT Cellars\nBeer from Perfect Circle Brewing\nFood Trucks on site \nDoors at 6 pm\n– music at 7 pm\n2 ticket options – with chairs provided or bring your own\nNo outside food or drink – No Dogs\nAll Ages \n \nSHOUT OUT TO OUR SPONSORS
URL:https://brewminatti.com/event-tickets/tt-event-urlhttps-www-tickettailor-com-all-tickets-brewminatti-refwebsite_widgetshow_date_filtertrue-minimaltrue-bg_fillfalse-show_logofalse-inherit_ref_from_url_param/
LOCATION:The Patio @ WIT Cellars\, 505 Cabernet Court\, Prosser\, WA\, 99350\, United States
CATEGORIES:Music
ATTACH;FMTTYPE=image/jpeg:https://brewminatti.com/wp-content/uploads/2026/03/Your-paragraph-text-6.jpg
END:VEVENT
BEGIN:VEVENT
DTSTART;TZID=America/Los_Angeles:20260919T180000
DTEND;TZID=America/Los_Angeles:20260919T210000
DTSTAMP:20260423T030358
CREATED:20260411T173410Z
LAST-MODIFIED:20260411T173410Z
UID:10000341-1789840800-1789851600@brewminatti.com
SUMMARY:Les Greene & The Swayzees - on the Patio @ WIT Cellars
DESCRIPTION:SUMMER CONCERT SERIES\non The Patio at WIT Cellars \nLes Greene\, the voice of Little Richard in the recent “Elvis” movie and Grammy nominated soundtrack. With his band The Swayzees\, vibrantly bring you a powerful force of roots rock n soul. With a high energy twist on the genre all while staying true to its sound this is the unique yet recognizable spin that music needs right now and hasn’t seen in some time. \nOne of the best entertainers of his time\, waiting for the rest of the world to experience his natural born gift. \nIn the rich tapestry of music\, few genres resonate as deeply and universally as soul. It’s a genre that speaks directly to the heart\, tapping into emotions with its poignant lyrics\, infectious rhythms\, and impassioned vocal performances. And within the realm of soul music\, one name stands out for his ability to captivate audiences with his soul-stirring melodies and heartfelt lyrics: Les Greene.  \nAt the core of Greene’s music lies a deep reverence for the traditions of soul\, but he’s never been one to simply replicate the sounds of the past. Instead\, he infuses his music with a modern sensibility\, blending elements of R&B\, funk\, and jazz to create a sound that feels both timeless and fresh. His songs are a testament to the enduring power of soul music – a celebration of love\, loss\, and the human experience. \nBeyond his talent as a solo artist\, Greene is also known for his dynamic live performances. Whether he’s commanding the stage with his soulful voice and blistering guitar solos or leading a tight-knit band through a funky groove\, Greene is a consummate entertainer\, capable of captivating audiences with his boundless energy and magnetic stage presence. His live shows are a testament to the transformative power of music – a shared experience that brings people together and leaves them uplifted and inspired. \nLes Greene has energy\, enthusiasm\, and dance moves somewhere between James Brown and Elvis. He was — and remains — a tornado of energy onstage\, both vocally and physically. — MIAMI NEW TIMES \n“You are a Ferrari\, you’re raw\, you’re rugged\, just full speed ahead.” — Luke Bryan\, American Idol \nWine from WIT Cellars\nBeer from Perfect Circle Brewing\nFood Trucks on site \nDoors at 6 pm\n– music 7:o0-ish \n2 ticket options – with chairs provided or bring your own\nNo outside food or drink – No Dogs\nAll Ages
URL:https://brewminatti.com/event-tickets/les-greene-the-swayzees-on-the-patio-wit-cellars/
LOCATION:The Patio @ WIT Cellars\, 505 Cabernet Court\, Prosser\, WA\, 99350\, United States
CATEGORIES:Music
ATTACH;FMTTYPE=image/png:https://brewminatti.com/wp-content/uploads/2026/04/5f0bc98ccae04225bb3577e9255c3d17.png
END:VEVENT
END:VCALENDAR