BEGIN:VCALENDAR
VERSION:2.0
PRODID:-//Brewminatti - Coffee, Food, &amp; Events - ECPv6.15.20//NONSGML v1.0//EN
CALSCALE:GREGORIAN
METHOD:PUBLISH
X-WR-CALNAME:Brewminatti - Coffee, Food, &amp; Events
X-ORIGINAL-URL:https://brewminatti.com
X-WR-CALDESC:Events for Brewminatti - Coffee, Food, &amp; Events
REFRESH-INTERVAL;VALUE=DURATION:PT1H
X-Robots-Tag:noindex
X-PUBLISHED-TTL:PT1H
BEGIN:VTIMEZONE
TZID:America/Los_Angeles
BEGIN:DAYLIGHT
TZOFFSETFROM:-0800
TZOFFSETTO:-0700
TZNAME:PDT
DTSTART:20200308T100000
END:DAYLIGHT
BEGIN:STANDARD
TZOFFSETFROM:-0700
TZOFFSETTO:-0800
TZNAME:PST
DTSTART:20201101T090000
END:STANDARD
BEGIN:DAYLIGHT
TZOFFSETFROM:-0800
TZOFFSETTO:-0700
TZNAME:PDT
DTSTART:20210314T100000
END:DAYLIGHT
BEGIN:STANDARD
TZOFFSETFROM:-0700
TZOFFSETTO:-0800
TZNAME:PST
DTSTART:20211107T090000
END:STANDARD
BEGIN:DAYLIGHT
TZOFFSETFROM:-0800
TZOFFSETTO:-0700
TZNAME:PDT
DTSTART:20220313T100000
END:DAYLIGHT
BEGIN:STANDARD
TZOFFSETFROM:-0700
TZOFFSETTO:-0800
TZNAME:PST
DTSTART:20221106T090000
END:STANDARD
END:VTIMEZONE
BEGIN:VEVENT
DTSTART;TZID=America/Los_Angeles:20210916T180000
DTEND;TZID=America/Los_Angeles:20210916T213000
DTSTAMP:20260425T110404
CREATED:20210802T230332Z
LAST-MODIFIED:20210901T213849Z
UID:10000090-1631815200-1631827800@brewminatti.com
SUMMARY:Jackie Venson
DESCRIPTION:Jackie Venson is a multi-instrumentalist\, singer/songwriter known far and wide for her beautifully complex music and blazing guitar skills. Born and raised in Austin\, Texas\, Jackie has traveled the world playing to massive crowds both as a headliner and as support for major acts such as Gary Clark Jr\, Aloe Blacc\, and Citizen Cope\, to name a few. \nIn October\, Jackie released her latest studio album ‘Vintage Machine’\, her first studio follow up to 2019’s ‘Joy’. Music from “Vintage Machine” was featured heavily on Jackie’s taping for Austin City Limits’ 46th season\, and she released the full set on “Live at Austin City Limits” in December. With the uncertainty of the times we’re living in\, one thing holds true for Jackie Venson- she’s going to play her music\, speak her truth\, and spread as much joy as she can doing it.
URL:https://brewminatti.com/event-tickets/jackie-venson/
ATTACH;FMTTYPE=image/jpeg:https://brewminatti.com/wp-content/uploads/2021/08/jackie-venson.jpg
END:VEVENT
END:VCALENDAR