BEGIN:VCALENDAR
VERSION:2.0
PRODID:-//Brewminatti - Coffee, Food, &amp; Events - ECPv6.15.20//NONSGML v1.0//EN
CALSCALE:GREGORIAN
METHOD:PUBLISH
X-ORIGINAL-URL:https://brewminatti.com
X-WR-CALDESC:Events for Brewminatti - Coffee, Food, &amp; Events
REFRESH-INTERVAL;VALUE=DURATION:PT1H
X-Robots-Tag:noindex
X-PUBLISHED-TTL:PT1H
BEGIN:VTIMEZONE
TZID:America/Los_Angeles
BEGIN:DAYLIGHT
TZOFFSETFROM:-0800
TZOFFSETTO:-0700
TZNAME:PDT
DTSTART:20200308T100000
END:DAYLIGHT
BEGIN:STANDARD
TZOFFSETFROM:-0700
TZOFFSETTO:-0800
TZNAME:PST
DTSTART:20201101T090000
END:STANDARD
BEGIN:DAYLIGHT
TZOFFSETFROM:-0800
TZOFFSETTO:-0700
TZNAME:PDT
DTSTART:20210314T100000
END:DAYLIGHT
BEGIN:STANDARD
TZOFFSETFROM:-0700
TZOFFSETTO:-0800
TZNAME:PST
DTSTART:20211107T090000
END:STANDARD
BEGIN:DAYLIGHT
TZOFFSETFROM:-0800
TZOFFSETTO:-0700
TZNAME:PDT
DTSTART:20220313T100000
END:DAYLIGHT
BEGIN:STANDARD
TZOFFSETFROM:-0700
TZOFFSETTO:-0800
TZNAME:PST
DTSTART:20221106T090000
END:STANDARD
BEGIN:DAYLIGHT
TZOFFSETFROM:-0800
TZOFFSETTO:-0700
TZNAME:PDT
DTSTART:20230312T100000
END:DAYLIGHT
BEGIN:STANDARD
TZOFFSETFROM:-0700
TZOFFSETTO:-0800
TZNAME:PST
DTSTART:20231105T090000
END:STANDARD
END:VTIMEZONE
BEGIN:VEVENT
DTSTART;TZID=America/Los_Angeles:20220312T190000
DTEND;TZID=America/Los_Angeles:20220312T220000
DTSTAMP:20260425T094028
CREATED:20220118T223743Z
LAST-MODIFIED:20220118T223743Z
UID:10000110-1647111600-1647122400@brewminatti.com
SUMMARY:Rachel Baiman AND Viv Leva & Riley Calcagno
DESCRIPTION:Originally from Chicago\, Baiman moved to Nashville at eighteen\, and has spent the last decade working as a musician in a wide variety of roles\, from session musician (Molly Tuttle\, Kelsey Waldon\, Caroline Spence)\, to live sidewoman (Kacey Musgraves\, Amy Ray)\, to bandmate and producer. Fiddle music was her first love\, and she is known in the bluegrass and old-time world for her work with progressive acoustic duo 10 String Symphony with fiddle player Christian Sedelmyer. \nOn her new full-length album Cycles\, Baiman has found a grittier musical medium for her signature unabashed and defiant songwriting. \n  \nVivian Leva & Riley Calcagno’s self-titled record is old-soul roots music to its core. Though both just out of college\, the duo’s musical talents extend far beyond their years. Produced by GRAMMY-winning Cajun roots heavyweight Joel Savoy at his Louisiana studio\, Vivian Leva & Riley Calcagno(released March 12\, 2021 on Free Dirt Records) is not some soulless collection of songs imitating previous masters of American music. Rather\, the pair has responded to one of the darkest eras in American history with an album of stunning breadth and originality.
URL:https://brewminatti.com/event-tickets/rachel-baiman-and-viv-leva-riley-calcagno/
LOCATION:Brewminatti\, 713 6th St.\, Prosser\, 99350\, United States
ATTACH;FMTTYPE=image/png:https://brewminatti.com/wp-content/uploads/2022/01/Screen-Shot-2022-01-18-at-2.36.27-PM.png
GEO:46.20504;-119.76945
X-APPLE-STRUCTURED-LOCATION;VALUE=URI;X-ADDRESS=Brewminatti 713 6th St. Prosser 99350 United States;X-APPLE-RADIUS=500;X-TITLE=713 6th St.:geo:-119.76945,46.20504
END:VEVENT
BEGIN:VEVENT
DTSTART;TZID=America/Los_Angeles:20220304T190000
DTEND;TZID=America/Los_Angeles:20220304T210000
DTSTAMP:20260425T094028
CREATED:20220202T224216Z
LAST-MODIFIED:20220202T224216Z
UID:10000114-1646420400-1646427600@brewminatti.com
SUMMARY:Hillstomp
DESCRIPTION:Hillstomp is a 2-man band comprised of Henry Hill Kammerer and John Johnson. Henry plays guitar and banjo like a hurricane\, and if you close your eyes you’d swear he’s playing 2 parts at once. John Johnson beats mercilessly on his drums\, with the fury of a demon loose from hell. Once you get past the pure ferocity of his playing\, you notice the parts are intricately crafted patterns that provide the framework for Kammerer’s guitar and banjo sorcery. \nHillstomp sounds like a boom box blasting from a shopping cart. Two madmen have strapped an engine to the cart and it’s too big and running too hot. They’ve got a banjo and a megaphone\, a washboard and a kick drum. They’ve stocked the cart with guitars\, buckets\, car parts\, and microphones and they are hurtling towards a blown out bridge while the bad front wheel flaps manically. The fools think they can jump the bridge and land safely on the other side. They are very wrong but no one has told them because…well\, they just seem so happy. And there you are\, bouncing alongside them and deep down you hope they make it. Hillstomp is folk music in its purest form – from loud and gritty\, to intricate and poignant\, and most importantly\, always heartfelt and true.
URL:https://brewminatti.com/event-tickets/hillstomp/
LOCATION:Brewminatti\, 713 6th St.\, Prosser\, 99350\, United States
CATEGORIES:Music
ATTACH;FMTTYPE=image/jpeg:https://brewminatti.com/wp-content/uploads/2022/02/hillstomp-27-scaled.jpg
GEO:46.20504;-119.76945
X-APPLE-STRUCTURED-LOCATION;VALUE=URI;X-ADDRESS=Brewminatti 713 6th St. Prosser 99350 United States;X-APPLE-RADIUS=500;X-TITLE=713 6th St.:geo:-119.76945,46.20504
END:VEVENT
BEGIN:VEVENT
DTSTART;TZID=America/Los_Angeles:20220222T180000
DTEND;TZID=America/Los_Angeles:20220222T210000
DTSTAMP:20260425T094028
CREATED:20220113T190352Z
LAST-MODIFIED:20220113T190352Z
UID:10000109-1645552800-1645563600@brewminatti.com
SUMMARY:TRIVIA!!
DESCRIPTION:We’re back – and ready to show off our respective genius / ignorance! \nTeams up to 6 players \nDoors at 6 pm – questions start at 6:30 sharp \nCome on down!  To play\, watch\, heckle\, have a beer\, whatever.  See ya!
URL:https://brewminatti.com/event-tickets/trivia/2022-02-22/
LOCATION:Brewminatti\, 713 6th St.\, Prosser\, 99350\, United States
ATTACH;FMTTYPE=image/jpeg:https://brewminatti.com/wp-content/uploads/2022/01/trivia.jpg
GEO:46.20504;-119.76945
X-APPLE-STRUCTURED-LOCATION;VALUE=URI;X-ADDRESS=Brewminatti 713 6th St. Prosser 99350 United States;X-APPLE-RADIUS=500;X-TITLE=713 6th St.:geo:-119.76945,46.20504
END:VEVENT
BEGIN:VEVENT
DTSTART;TZID=America/Los_Angeles:20220215T180000
DTEND;TZID=America/Los_Angeles:20220215T210000
DTSTAMP:20260425T094028
CREATED:20220113T190352Z
LAST-MODIFIED:20220113T190352Z
UID:10000108-1644948000-1644958800@brewminatti.com
SUMMARY:TRIVIA!!
DESCRIPTION:We’re back – and ready to show off our respective genius / ignorance! \nTeams up to 6 players \nDoors at 6 pm – questions start at 6:30 sharp \nCome on down!  To play\, watch\, heckle\, have a beer\, whatever.  See ya!
URL:https://brewminatti.com/event-tickets/trivia/2022-02-15/
LOCATION:Brewminatti\, 713 6th St.\, Prosser\, 99350\, United States
ATTACH;FMTTYPE=image/jpeg:https://brewminatti.com/wp-content/uploads/2022/01/trivia.jpg
GEO:46.20504;-119.76945
X-APPLE-STRUCTURED-LOCATION;VALUE=URI;X-ADDRESS=Brewminatti 713 6th St. Prosser 99350 United States;X-APPLE-RADIUS=500;X-TITLE=713 6th St.:geo:-119.76945,46.20504
END:VEVENT
BEGIN:VEVENT
DTSTART;TZID=America/Los_Angeles:20220211T190000
DTEND;TZID=America/Los_Angeles:20220211T210000
DTSTAMP:20260425T094028
CREATED:20211217T181033Z
LAST-MODIFIED:20211217T181033Z
UID:10000102-1644606000-1644613200@brewminatti.com
SUMMARY:The Lowest Pair
DESCRIPTION:Happy to have The Lowest Pair back to play for us in February…it’s been a while.  Coupling great songs with a homey\, heart-felt demeanor\, they offer a unique\, engaging style \, even if that means two banjos!  See what others are saying… \n“Kendl Winter and Palmer T. Lee\, both playing guitar and banjo and trading vocals; hers an achingly beautiful distinctive tone that complements his smoky delivery to perfection.”\n– Americana UK\, The Lowest Pair at The Green Note\, London By David Allen \n“If you listen to no other bands or musical outfits in the Americana genre …listen to The Lowest Pair.”\n-No Depression on Fern Girl & Ice Man \n“…one of the best under-the-radar Americana duos today.”\n-Paste Magazine
URL:https://brewminatti.com/event-tickets/the-lowest-pair/
LOCATION:Brewminatti\, 713 6th St.\, Prosser\, 99350\, United States
ATTACH;FMTTYPE=image/jpeg:https://brewminatti.com/wp-content/uploads/2021/12/PAIR_WIDE-scaled-1-e1639764518433.jpg
GEO:46.20504;-119.76945
X-APPLE-STRUCTURED-LOCATION;VALUE=URI;X-ADDRESS=Brewminatti 713 6th St. Prosser 99350 United States;X-APPLE-RADIUS=500;X-TITLE=713 6th St.:geo:-119.76945,46.20504
END:VEVENT
BEGIN:VEVENT
DTSTART;TZID=America/Los_Angeles:20220208T180000
DTEND;TZID=America/Los_Angeles:20220208T210000
DTSTAMP:20260425T094028
CREATED:20220113T190352Z
LAST-MODIFIED:20220113T190352Z
UID:10000107-1644343200-1644354000@brewminatti.com
SUMMARY:TRIVIA!!
DESCRIPTION:We’re back – and ready to show off our respective genius / ignorance! \nTeams up to 6 players \nDoors at 6 pm – questions start at 6:30 sharp \nCome on down!  To play\, watch\, heckle\, have a beer\, whatever.  See ya!
URL:https://brewminatti.com/event-tickets/trivia/2022-02-08/
LOCATION:Brewminatti\, 713 6th St.\, Prosser\, 99350\, United States
ATTACH;FMTTYPE=image/jpeg:https://brewminatti.com/wp-content/uploads/2022/01/trivia.jpg
GEO:46.20504;-119.76945
X-APPLE-STRUCTURED-LOCATION;VALUE=URI;X-ADDRESS=Brewminatti 713 6th St. Prosser 99350 United States;X-APPLE-RADIUS=500;X-TITLE=713 6th St.:geo:-119.76945,46.20504
END:VEVENT
BEGIN:VEVENT
DTSTART;TZID=America/Los_Angeles:20220201T180000
DTEND;TZID=America/Los_Angeles:20220201T210000
DTSTAMP:20260425T094028
CREATED:20220113T190352Z
LAST-MODIFIED:20220113T190352Z
UID:10000106-1643738400-1643749200@brewminatti.com
SUMMARY:TRIVIA!!
DESCRIPTION:We’re back – and ready to show off our respective genius / ignorance! \nTeams up to 6 players \nDoors at 6 pm – questions start at 6:30 sharp \nCome on down!  To play\, watch\, heckle\, have a beer\, whatever.  See ya!
URL:https://brewminatti.com/event-tickets/trivia/2022-02-01/
LOCATION:Brewminatti\, 713 6th St.\, Prosser\, 99350\, United States
ATTACH;FMTTYPE=image/jpeg:https://brewminatti.com/wp-content/uploads/2022/01/trivia.jpg
GEO:46.20504;-119.76945
X-APPLE-STRUCTURED-LOCATION;VALUE=URI;X-ADDRESS=Brewminatti 713 6th St. Prosser 99350 United States;X-APPLE-RADIUS=500;X-TITLE=713 6th St.:geo:-119.76945,46.20504
END:VEVENT
BEGIN:VEVENT
DTSTART;TZID=America/Los_Angeles:20220129T190000
DTEND;TZID=America/Los_Angeles:20220129T210000
DTSTAMP:20260425T094028
CREATED:20211019T183350Z
LAST-MODIFIED:20211112T175621Z
UID:10000095-1643482800-1643490000@brewminatti.com
SUMMARY:Clem Snide
DESCRIPTION:‘Forever Just Beyond\,’ Barzelay’s stunning new album under the Clem Snide moniker\, may just be the most miraculous of all his albums. Produced by Scott Avett\, the record is a work of exquisite beauty and profound questioning\, a reckoning with faith and reality that rushes headlong into the unknown and the unknowable. The songs here grapple with hope and depression\, identity and perception\, God and the afterlife\, humanizing thorny existential issues and delivering them with the intimate\, understated air of a late-night conversation between old friends. Avett’s production is similarly warm and inviting\, and the careful\, spacious arrangement of gentle guitars and spare percussion carves a wide path for Barzelay’s insightful lyrics and idiosyncratic delivery. \n“I look up to Eef with total respect and admiration\,” says Avett\, “and I hope to survive like he survives: with total love for the new and the unknown. Eef’s a crooner and an indie darling by sound and a mystic sage by depth. That’s not common\, but it’s beautiful.” \n  \nhttp:/https://www.youtube.com/watch?v=G9xoR50c8Ss&t=23s \n 
URL:https://brewminatti.com/event-tickets/clem-snide/
ATTACH;FMTTYPE=image/jpeg:https://brewminatti.com/wp-content/uploads/2021/10/Clem-Snide-3-©-Crackerfarm-1-scaled-e1634668605631.jpg
END:VEVENT
BEGIN:VEVENT
DTSTART;TZID=America/Los_Angeles:20220125T180000
DTEND;TZID=America/Los_Angeles:20220125T210000
DTSTAMP:20260425T094028
CREATED:20220113T190352Z
LAST-MODIFIED:20220113T190352Z
UID:10000105-1643133600-1643144400@brewminatti.com
SUMMARY:TRIVIA!!
DESCRIPTION:We’re back – and ready to show off our respective genius / ignorance! \nTeams up to 6 players \nDoors at 6 pm – questions start at 6:30 sharp \nCome on down!  To play\, watch\, heckle\, have a beer\, whatever.  See ya!
URL:https://brewminatti.com/event-tickets/trivia/2022-01-25/
LOCATION:Brewminatti\, 713 6th St.\, Prosser\, 99350\, United States
ATTACH;FMTTYPE=image/jpeg:https://brewminatti.com/wp-content/uploads/2022/01/trivia.jpg
GEO:46.20504;-119.76945
X-APPLE-STRUCTURED-LOCATION;VALUE=URI;X-ADDRESS=Brewminatti 713 6th St. Prosser 99350 United States;X-APPLE-RADIUS=500;X-TITLE=713 6th St.:geo:-119.76945,46.20504
END:VEVENT
BEGIN:VEVENT
DTSTART;TZID=America/Los_Angeles:20220120T190000
DTEND;TZID=America/Los_Angeles:20220120T210000
DTSTAMP:20260425T094028
CREATED:20211202T161344Z
LAST-MODIFIED:20220115T180948Z
UID:10000101-1642705200-1642712400@brewminatti.com
SUMMARY:Tony Furtado
DESCRIPTION:Americana Roots via a multi-instrumentalist with a dizzying musical toolbox \n“…true talent doesn’t need categories.”\n​-Relix Magazine \n“…a major musical force without doubt. He has his black belt in voice\, bottleneck guitar and his banjo playing scares the crap out of me.”\n-David Lindley
URL:https://brewminatti.com/event-tickets/tony-furtado/
LOCATION:Brewminatti\, 713 6th St.\, Prosser\, 99350\, United States
ATTACH;FMTTYPE=image/jpeg:https://brewminatti.com/wp-content/uploads/2021/12/tonyfurtado2014byaliciajrose_1b7a3885-scaled.jpg
GEO:46.20504;-119.76945
X-APPLE-STRUCTURED-LOCATION;VALUE=URI;X-ADDRESS=Brewminatti 713 6th St. Prosser 99350 United States;X-APPLE-RADIUS=500;X-TITLE=713 6th St.:geo:-119.76945,46.20504
END:VEVENT
BEGIN:VEVENT
DTSTART;TZID=America/Los_Angeles:20220118T180000
DTEND;TZID=America/Los_Angeles:20220118T210000
DTSTAMP:20260425T094028
CREATED:20220113T190352Z
LAST-MODIFIED:20220113T190352Z
UID:10000104-1642528800-1642539600@brewminatti.com
SUMMARY:TRIVIA!!
DESCRIPTION:We’re back – and ready to show off our respective genius / ignorance! \nTeams up to 6 players \nDoors at 6 pm – questions start at 6:30 sharp \nCome on down!  To play\, watch\, heckle\, have a beer\, whatever.  See ya!
URL:https://brewminatti.com/event-tickets/trivia/2022-01-18/
LOCATION:Brewminatti\, 713 6th St.\, Prosser\, 99350\, United States
ATTACH;FMTTYPE=image/jpeg:https://brewminatti.com/wp-content/uploads/2022/01/trivia.jpg
GEO:46.20504;-119.76945
X-APPLE-STRUCTURED-LOCATION;VALUE=URI;X-ADDRESS=Brewminatti 713 6th St. Prosser 99350 United States;X-APPLE-RADIUS=500;X-TITLE=713 6th St.:geo:-119.76945,46.20504
END:VEVENT
BEGIN:VEVENT
DTSTART;TZID=America/Los_Angeles:20211230T190000
DTEND;TZID=America/Los_Angeles:20211230T210000
DTSTAMP:20260425T094028
CREATED:20211025T192332Z
LAST-MODIFIED:20211025T192332Z
UID:10000096-1640890800-1640898000@brewminatti.com
SUMMARY:The Deer
DESCRIPTION:The songs are spacious — airy vocals float atop lovely\, languid melodies and gentle percussion\, adorned with softly-swelling synths and thoughtfully-plucked fiddle and mandolin. It’s a sound that compels comparisons to both songwriting principals like Fleetwood Mac\, Neko Case or Mazzy Star as well as indie folk contemporaries like Jade Bird\, Haley Heynderickx\, or Shannon Lay. The Deer have formed a breed of indie folk entirely uninhibited\, all its own\, and absolutely captivating.. From Austin\, they are borne of a densely creative atmosphere\, and stand out with their versatile and accessible sound. Members include frontwoman Grace Rowland (The Blue Hit)\, upright bassist Jesse Dalton (MilkDrive\, Green Mountain Grass)\, guitarist Michael McLeod (Good Field\, Linklater film composer)\, drummer Alan Eckert (Dimitri’s Ascent\, A Live One)\, and string player Noah Jeffries (MilkDrive\, South Austin Jug Band). Frequent collaborator Roger Sellers (Bayonne) also adds some of his touch to their songwriting and production.
URL:https://brewminatti.com/event-tickets/the-deer/
ATTACH;FMTTYPE=image/jpeg:https://brewminatti.com/wp-content/uploads/2021/10/deer-photo.jpg
END:VEVENT
BEGIN:VEVENT
DTSTART;TZID=America/Los_Angeles:20211209T173000
DTEND;TZID=America/Los_Angeles:20211209T200000
DTSTAMP:20260425T094028
CREATED:20211201T160908Z
LAST-MODIFIED:20211201T160908Z
UID:10000100-1639071000-1639080000@brewminatti.com
SUMMARY:Winter Ale Release Party
DESCRIPTION:We’re releasing our very first Seasonal Beer – and we decided to make it an event.  Come join us on Thursday night\, December 9th between 5:30 and 8:00 pm.  Space is limited\, so buy your tickets NOW!  The price includes food (your choice of pulled pork sliders or chili and cornbread or cookies or whatever else we think of…or all of the above) as well as the chance to try our new beer – Edgar’s Winter Ale!  (Beer must be purchased separately – it is illegal to give away alcohol – go figure.) \nIt’ll be relaxed\, fun and social.  And limited – so save the date\, buy the tix\, and join us!!
URL:https://brewminatti.com/event-tickets/winter-ale-release-party/
LOCATION:Brewminatti\, 713 6th St.\, Prosser\, 99350\, United States
ATTACH;FMTTYPE=image/jpeg:https://brewminatti.com/wp-content/uploads/2021/12/Winter-Ale-Release-scaled-e1638374886492.jpg
GEO:46.20504;-119.76945
X-APPLE-STRUCTURED-LOCATION;VALUE=URI;X-ADDRESS=Brewminatti 713 6th St. Prosser 99350 United States;X-APPLE-RADIUS=500;X-TITLE=713 6th St.:geo:-119.76945,46.20504
END:VEVENT
BEGIN:VEVENT
DTSTART;TZID=America/Los_Angeles:20211120T190000
DTEND;TZID=America/Los_Angeles:20211120T213000
DTSTAMP:20260425T094028
CREATED:20210923T203509Z
LAST-MODIFIED:20210924T150437Z
UID:10000094-1637434800-1637443800@brewminatti.com
SUMMARY:An Evening with Jesse Dayton
DESCRIPTION:This is a rare opportunity to see Jesse “up close and personal.”  He’s on the road promoting both a new record and a new BOOK!  So Jesse\, without his regular hard-kicking band\, will be singing songs and telling stories about his unusually-varied career…having worked with both Waylon Jennings AND Rob Zombie\, and so many more. \nIn support on this tour will be Zac Wilkerson – another Auston musician who has been on our radar for a while now.  This one will be special.
URL:https://brewminatti.com/event-tickets/an-evening-with-jesse-dayton/
ATTACH;FMTTYPE=image/jpeg:https://brewminatti.com/wp-content/uploads/2021/09/jesse-dayton.jpg
END:VEVENT
BEGIN:VEVENT
DTSTART;TZID=America/Los_Angeles:20211118T180000
DTEND;TZID=America/Los_Angeles:20211118T203000
DTSTAMP:20260425T094028
CREATED:20211029T180615Z
LAST-MODIFIED:20211029T180738Z
UID:10000099-1637258400-1637267400@brewminatti.com
SUMMARY:TRIVIA NIGHT!!
DESCRIPTION:Up to 6 per team \n$10 per team entry fee – paid on site \nDoors open at 6 – questions come fast and furious at 6:30 \n 
URL:https://brewminatti.com/event-tickets/trivia-night/2021-11-18/
ATTACH;FMTTYPE=image/jpeg:https://brewminatti.com/wp-content/uploads/2021/10/trivia.jpg
END:VEVENT
BEGIN:VEVENT
DTSTART;TZID=America/Los_Angeles:20211111T180000
DTEND;TZID=America/Los_Angeles:20211111T203000
DTSTAMP:20260425T094028
CREATED:20211029T180615Z
LAST-MODIFIED:20211029T180738Z
UID:10000098-1636653600-1636662600@brewminatti.com
SUMMARY:TRIVIA NIGHT!!
DESCRIPTION:Up to 6 per team \n$10 per team entry fee – paid on site \nDoors open at 6 – questions come fast and furious at 6:30 \n 
URL:https://brewminatti.com/event-tickets/trivia-night/2021-11-11/
ATTACH;FMTTYPE=image/jpeg:https://brewminatti.com/wp-content/uploads/2021/10/trivia.jpg
END:VEVENT
BEGIN:VEVENT
DTSTART;TZID=America/Los_Angeles:20211104T180000
DTEND;TZID=America/Los_Angeles:20211104T203000
DTSTAMP:20260425T094028
CREATED:20211029T180615Z
LAST-MODIFIED:20211029T180738Z
UID:10000097-1636048800-1636057800@brewminatti.com
SUMMARY:TRIVIA NIGHT!!
DESCRIPTION:Up to 6 per team \n$10 per team entry fee – paid on site \nDoors open at 6 – questions come fast and furious at 6:30 \n 
URL:https://brewminatti.com/event-tickets/trivia-night/2021-11-04/
ATTACH;FMTTYPE=image/jpeg:https://brewminatti.com/wp-content/uploads/2021/10/trivia.jpg
END:VEVENT
BEGIN:VEVENT
DTSTART;TZID=America/Los_Angeles:20211001T190000
DTEND;TZID=America/Los_Angeles:20211001T210000
DTSTAMP:20260425T094028
CREATED:20210831T195507Z
LAST-MODIFIED:20210901T213744Z
UID:10000093-1633114800-1633122000@brewminatti.com
SUMMARY:Rob Ickes & Trey Hensley
DESCRIPTION:Take a 15-time IBMA (International Bluegrass Music Association) Dobro Player of the Year and a Tennessee-born guitar prodigy who made his Grand Ole Opry debut at the age of 11\, and you have Rob Ickes and Trey Hensley\, a powerhouse acoustic duo that has electrified the acoustic music scene. \nOn their new Compass Records album\, WORLD FULL OF BLUES\, they move beyond the acoustic-centric sound of their previous two releases (including the GRAMMY-nominated BEFORE THE SUN GOES DOWN) and juice things up with Hammond B3 and a horn section. Guests include blues great Taj Mahal\, who provides his unmistakable mojo to the title track\, and country music legend Vince Gill\, who joins the duo on an inspired rendition of The Grateful Dead’s moonshiner song\, “Brown-Eyed Women”. \nWhite-hot picking and stone country vocals are still the driving force of the duo\, but now with added grit and a nod to the rootsier side of Americana\, all aided by the guiding hand of GRAMMY winning producer Brent Maher.
URL:https://brewminatti.com/event-tickets/rob-ickes-trey-hensley/
ATTACH;FMTTYPE=image/jpeg:https://brewminatti.com/wp-content/uploads/2021/08/Rob-Ickes-Trey-Hensley.jpg
END:VEVENT
BEGIN:VEVENT
DTSTART;TZID=America/Los_Angeles:20210929T190000
DTEND;TZID=America/Los_Angeles:20210929T210000
DTSTAMP:20260425T094028
CREATED:20210831T193902Z
LAST-MODIFIED:20210901T213804Z
UID:10000092-1632942000-1632949200@brewminatti.com
SUMMARY:The Quebe Sisters
DESCRIPTION:With over fifteen years of touring to date\, The Quebe Sisters have delivered their authentic triple fiddle and three-part harmony sound to the concert halls and festivals of North America and Europe. \nGrace\, Sophia\, and Hulda Quebe front an innovative Progressive Western Swing band of archtop guitar\, upright bass\, fiddles and sibling harmony. The Dallas-based five-piece presents a unique Americana blend of Western Swing\, Jazz-influenced Swing\, Country\, Texas-Style Fiddling\, and Western music. \n“We differentiate our music as ‘Progressive Western Swing’ from simply ‘Western Swing’ because we aren’t trying to sound just like Bob Wills\,” Grace Quebe explains. “Instead\, we continue his vision\, playing the style he pioneered in an authentic way by incorporating new genres and songs\, interpreting them using our own unique voice through Country instrumentation.”
URL:https://brewminatti.com/event-tickets/the-quebe-sisters/
ATTACH;FMTTYPE=image/jpeg:https://brewminatti.com/wp-content/uploads/2021/08/quebe-sisters.jpg
END:VEVENT
BEGIN:VEVENT
DTSTART;TZID=America/Los_Angeles:20210924T190000
DTEND;TZID=America/Los_Angeles:20210924T213000
DTSTAMP:20260425T094028
CREATED:20210802T231018Z
LAST-MODIFIED:20210901T213826Z
UID:10000091-1632510000-1632519000@brewminatti.com
SUMMARY:Griffin House
DESCRIPTION:“IF YOU ARE LOOKING TO BE BLOWN AWAY BY RAW TALENT\, THEN LOOK NO FURTHER THAN GRIFFIN HOUSE.” —AMERICAN SONGWRITER \nGriffin has been with us before\, and we’re always excited to have him back.  Griffin’s a great singer-songwriter\, storyteller and all-around entertainer.  He also happens to be the “star” of a documentary called “Rising Star”\, about the  life\, times and challenges of a touring musician.   If you haven’t seen Griffin at Brewminatti before\, don’t miss this opportunity.
URL:https://brewminatti.com/event-tickets/griffin-house/
ATTACH;FMTTYPE=image/jpeg:https://brewminatti.com/wp-content/uploads/2021/08/griffin-house.jpg
END:VEVENT
BEGIN:VEVENT
DTSTART;TZID=America/Los_Angeles:20210916T180000
DTEND;TZID=America/Los_Angeles:20210916T213000
DTSTAMP:20260425T094028
CREATED:20210802T230332Z
LAST-MODIFIED:20210901T213849Z
UID:10000090-1631815200-1631827800@brewminatti.com
SUMMARY:Jackie Venson
DESCRIPTION:Jackie Venson is a multi-instrumentalist\, singer/songwriter known far and wide for her beautifully complex music and blazing guitar skills. Born and raised in Austin\, Texas\, Jackie has traveled the world playing to massive crowds both as a headliner and as support for major acts such as Gary Clark Jr\, Aloe Blacc\, and Citizen Cope\, to name a few. \nIn October\, Jackie released her latest studio album ‘Vintage Machine’\, her first studio follow up to 2019’s ‘Joy’. Music from “Vintage Machine” was featured heavily on Jackie’s taping for Austin City Limits’ 46th season\, and she released the full set on “Live at Austin City Limits” in December. With the uncertainty of the times we’re living in\, one thing holds true for Jackie Venson- she’s going to play her music\, speak her truth\, and spread as much joy as she can doing it.
URL:https://brewminatti.com/event-tickets/jackie-venson/
ATTACH;FMTTYPE=image/jpeg:https://brewminatti.com/wp-content/uploads/2021/08/jackie-venson.jpg
END:VEVENT
END:VCALENDAR